BEGIN:VCALENDAR
PRODID:NingEventWidget-v1
VERSION:2.0
METHOD:PUBLISH
BEGIN:VTIMEZONE
TZID:Pacific/Midway
X-LIC-LOCATION:Pacific/Midway
BEGIN:STANDARD
TZOFFSETFROM:-1100
TZOFFSETTO:-1100
TZNAME:SST
DTSTART:19700101T000000
END:STANDARD
END:VTIMEZONE
BEGIN:VEVENT
UID:2013205:Event:1188341
DTSTAMP:20260421T165736Z
SUMMARY:XXXVIII IATLIS National Conference
DESCRIPTION:XXXVIII IATLIS National Conference\r\n03 - 04 December, 20
 22\r\non the theme\r\n\"ICT, NEP 2020 and LIS Education & Research in 
 India\"\r\nJointly organized by IATLIS and DLIS, Mohanlal Sukhadia Uni
 versity, Rajasthan\r\nhttps://iatlis.org/brochure.pdf\n\nFor more info
 rmation visit https://www.lislinks.com/events/xxxviii-iatlis-national-
 conference
DTSTART;TZID=Pacific/Midway:20221203T180000
DTEND;TZID=Pacific/Midway:20221204T190000
CATEGORIES:conference
LOCATION:DLIS, Mohanlal Sukhadia University, Udaipur, Rajasthan
WEBSITE:https://iatlis.org/brochure.pdf
URL:https://iatlis.org/brochure.pdf
CONTACT:
ORGANIZER:IATLIS and DLIS, Mohanlal Sukhadia University, Udaipur, Raja
 sthan
ATTACH;FMTTYPE="image/jpeg":https://storage.ning.com/topology/rest/1.0
 /file/get/10807474875?profile=original
ATTENDEE;ROLE=REQ-PARTICIPANT;PARTSTAT=ACCEPTED;RSVP=TRUE;CN="Rajesh Y
 adav":https://www.lislinks.com/profile/RajeshYadav308
ATTENDEE;ROLE=REQ-PARTICIPANT;PARTSTAT=ACCEPTED;RSVP=TRUE;CN="Mangla R
 ameshrao Nadhe":https://www.lislinks.com/profile/ManglaRameshraoNadhe
ATTENDEE;ROLE=REQ-PARTICIPANT;PARTSTAT=ACCEPTED;RSVP=TRUE;CN=NANDINI:h
 ttps://www.lislinks.com/profile/NANDINI914
ATTENDEE;ROLE=REQ-PARTICIPANT;PARTSTAT=ACCEPTED;RSVP=TRUE;CN="shweta s
 harma":https://www.lislinks.com/profile/shwetasharma500
ATTENDEE;ROLE=REQ-PARTICIPANT;PARTSTAT=ACCEPTED;RSVP=TRUE;CN="DAYAL SI
 NGH BHATI":https://www.lislinks.com/profile/DAYALSINGHBHATI
ATTENDEE;ROLE=REQ-PARTICIPANT;PARTSTAT=ACCEPTED;RSVP=TRUE;CN="Dr. Ashi
 s Biswas":https://www.lislinks.com/profile/DrAshisBiswas
ATTENDEE;ROLE=REQ-PARTICIPANT;PARTSTAT=TENTATIVE;RSVP=TRUE;CN="puspita
  mishra":https://www.lislinks.com/profile/puspitamishra
END:VEVENT
END:VCALENDAR
