BEGIN:VCALENDAR
PRODID:NingEventWidget-v1
VERSION:2.0
METHOD:PUBLISH
BEGIN:VTIMEZONE
TZID:Pacific/Midway
X-LIC-LOCATION:Pacific/Midway
BEGIN:STANDARD
TZOFFSETFROM:-1100
TZOFFSETTO:-1100
TZNAME:SST
DTSTART:19700101T000000
END:STANDARD
END:VTIMEZONE
BEGIN:VEVENT
UID:2013205:Event:1219827
DTSTAMP:20260421T222652Z
SUMMARY:Webinar on Emerging Trends and Technologies in Library &amp; I
 nformation Services (ETTLIS)
DESCRIPTION:Speaker : Dr Nabi Hasan : Head Librarian IIT Delhi\n\nFor 
 more information visit https://www.lislinks.com/events/webinar-on-emer
 ging-trends-and-technologies-in-library-amp
DTSTART;TZID=Pacific/Midway:20230814T150000
DTEND;TZID=Pacific/Midway:20230814T170000
CATEGORIES:webinar, "https://zoom.us/webinar/register/wn_atyrdltrrzu3d
 89nazetcw"
LOCATION:NSHM KNOWLEDGE CAMPUS KOLKATA
WEBSITE:https://www.nshm.com/
URL:https://www.nshm.com/
CONTACT:https://zoom.us/webinar/register/WN_aTYrdltrRZu3d89nazETCw
ORGANIZER:SUBHANKAR RAY CHOWDHURY
ATTACH;FMTTYPE="image/jpeg":
ATTENDEE;ROLE=REQ-PARTICIPANT;PARTSTAT=ACCEPTED;RSVP=TRUE;CN="Munesh K
 umar":https://www.lislinks.com/profile/muneshkindia
END:VEVENT
END:VCALENDAR
