BEGIN:VCALENDAR
PRODID:NingEventWidget-v1
VERSION:2.0
METHOD:PUBLISH
BEGIN:VTIMEZONE
TZID:Pacific/Midway
X-LIC-LOCATION:Pacific/Midway
BEGIN:STANDARD
TZOFFSETFROM:-1100
TZOFFSETTO:-1100
TZNAME:SST
DTSTART:19700101T000000
END:STANDARD
END:VTIMEZONE
BEGIN:VEVENT
UID:2013205:Event:1245994
DTSTAMP:20260422T075605Z
SUMMARY:VTU National Conference on Engineering Librarianship (VTUNCEL 
 2025)
DESCRIPTION:Dear Sir/Madam\nWe are delighted to announce that the Vis
 vesvaraya Technological University (VTU) Consortium is organizing a N
 ational Conference on Engineering Librarianship. It has been reschedul
 ed on 22nd-24th January 2025 at Visvesvaraya Technological University,
  Belagavi.\nThe conference aims to bring together Practicing professio
 nals, academicians, researchers, and technologists related to Library
  and Information Science (LIS), specifically in Engineering Libraria
 nship to share their insights, innovations, and best practices.\nI ki
 ndly request you to nominate your Librarian(s)/Library Professionals
 to actively participate in this conference. We also encourage them to
  contribute research papers, articles, or case studies aligned with 
 the conference themes. Selected submissions will be published in the c
 onference proceedings, and authors will be invited to present their wo
 rk during the plenary sessions.\nConference Date: 22nd -24th January 
 2026 Venue: VTU, Belagavi\nImportant dates\nPaper Submission deadline
  Extended: 31st h December 2025\nNotification of acceptance:  5th Jan
 uary 2026\nCamera Ready paper: 12th January 2026\n \nRegistration\nSt
 udents and research Scholars: ₹200/-\nFaculty / Library professional
 s: ₹1000/-\nIndustry & corporate delegates: ₹2500/-\n Correspondi
 ng Email: libconference@vtu.ac.in\n \nWe look forward to your valuab
 le contributions and participation in this conference. Kindly submit y
 our articles to libconference@vtu.ac.in on or before the stipulated 
 deadline\n For more details visit the website http://libconference.v
 tu.ac.in/ \n Selected and extended papers will be considered for pub
 lication in Scopus-indexed journals\nWe sincerely look forward to your
  active engagement in making this conference a grand success.\nWith wa
 rm regards,\n \nDr. Somaraya B Tallolli Librarian & Organizing Secret
 ary, VTU National Conference on Engineering Librarianship Visvesvaraya
  Technological University (VTU), “Jnana Sangama” Belagavi-590018 P
 hone.No.9449960206\n\nFor more information visit https://www.lislinks.
 com/events/vtu-national-conference-on-engineering-librarianship-vtunce
 l-2025
DTSTART;TZID=Pacific/Midway:20260122T000000
DTEND;TZID=Pacific/Midway:20260124T235900
CATEGORIES:national, conference
LOCATION:Visvesvaraya Technlogical University
WEBSITE:https://libconference.vtu.ac.in/
URL:https://libconference.vtu.ac.in/
CONTACT:9449960206
ORGANIZER:Visvesvaraya Technological University, Belagavi, Karnataka, 
 India
ATTACH;FMTTYPE="image/jpeg":https://storage.ning.com/topology/rest/1.0
 /file/get/31036604664?profile=original
ATTENDEE;ROLE=REQ-PARTICIPANT;PARTSTAT=ACCEPTED;RSVP=TRUE;CN="Somaraya
  B Tallolli":https://www.lislinks.com/profile/SomarayaBTallolli
END:VEVENT
END:VCALENDAR
