BEGIN:VCALENDAR
PRODID:NingEventWidget-v1
VERSION:2.0
METHOD:PUBLISH
BEGIN:VTIMEZONE
TZID:Pacific/Midway
X-LIC-LOCATION:Pacific/Midway
BEGIN:STANDARD
TZOFFSETFROM:-1100
TZOFFSETTO:-1100
TZNAME:SST
DTSTART:19700101T000000
END:STANDARD
END:VTIMEZONE
BEGIN:VEVENT
UID:2013205:Event:1216500
DTSTAMP:20260423T050543Z
SUMMARY:Two Week Online Refresher Course in Library and Information Sc
 ience
DESCRIPTION:The UGC-HRDC of Dr. Harisingh Gour Vishwavidyalaya Sagar, 
 MP is going to organize Online Refresher Course (Two Weeks) entitled \
 "RC3-23 Recent Trends and Technologies in LIS Education and Services\"
  from 24 August 2023 to 06 September 2023 on the subject Library and I
 nformation Science.\nInterested participants are requested to apply. 
 https://docs.google.com/forms/d/e/1FAIpQLSf1gdFgZxM3mOezcVZ_qmTciaxCDB
 nmtzXVs-VDfnQboRTq_Q/viewform\n\n\n\n\n\n\n\n\n\n\n\n\n\n\n\n\n\n\n\nF
 or more information visit https://www.lislinks.com/events/two-week-onl
 ine-refresher-course-in-library-and-information
DTSTART;TZID=Pacific/Midway:20230824T100000
DTEND;TZID=Pacific/Midway:20230906T173000
CATEGORIES:online, refresher, course
LOCATION:UGC- HRDC, Dr. Harisingh Gour Vishwavidyalaya, Sagar
WEBSITE:https://dhsgsu.edu.in/index.php/en/centres/human-resource-deve
 lopment-centre-hrdc
URL:https://dhsgsu.edu.in/index.php/en/centres/human-resource-developm
 ent-centre-hrdc
CONTACT:9425424909
ORGANIZER;CN="Dr. Anurag Shrivastava":https://www.lislinks.com/profile
 /DrAnuragShrivastava
ATTACH;FMTTYPE="image/jpeg":https://storage.ning.com/topology/rest/1.0
 /file/get/12144468455?profile=original
ATTENDEE;ROLE=REQ-PARTICIPANT;PARTSTAT=ACCEPTED;RSVP=TRUE;CN="Preetika
  Tripathi":https://www.lislinks.com/profile/PreetikaTripathi959
ATTENDEE;ROLE=REQ-PARTICIPANT;PARTSTAT=ACCEPTED;RSVP=TRUE;CN="Dr. Anur
 ag Shrivastava":https://www.lislinks.com/profile/DrAnuragShrivastava
ATTENDEE;ROLE=REQ-PARTICIPANT;PARTSTAT=TENTATIVE;RSVP=TRUE;CN="Vijay S
 ingh":https://www.lislinks.com/profile/VijaySingh948
END:VEVENT
END:VCALENDAR
