BEGIN:VCALENDAR
PRODID:NingEventWidget-v1
VERSION:2.0
METHOD:PUBLISH
BEGIN:VTIMEZONE
TZID:Pacific/Midway
X-LIC-LOCATION:Pacific/Midway
BEGIN:STANDARD
TZOFFSETFROM:-1100
TZOFFSETTO:-1100
TZNAME:SST
DTSTART:19700101T000000
END:STANDARD
END:VTIMEZONE
BEGIN:VEVENT
UID:2013205:Event:1202833
DTSTAMP:20260421T213937Z
SUMMARY:Two Days National Workshop on Library Automation Using Koha
DESCRIPTION:National Workshop on Library Automation using Koha durin
 g 24-25 February 2023.\r\n \r\nThe aim of this hand-on-workshop is t
 o familiarise library professionals with cloud computing, open source 
 software, and various aspects of Koha LMS. The workshop is intended 
 to enable the young librarians to elaborate and validate their novel t
 houghts by the domain experts\r\nfrom the reputed universities/institu
 te of the country.\r\n\r\n \r\nLink 1 - Registration Form \r\nLink 
 2 - Payment\r\n\r\n\r\nWorkshop Brochure\n\nFor more information visi
 t https://www.lislinks.com/events/two-days-workshop-on-library-automat
 ion-using-koha
DTSTART;TZID=Pacific/Midway:20230224T090000
DTEND;TZID=Pacific/Midway:20230225T180000
CATEGORIES:workshop
LOCATION:Pandit Deendayal Energy University
WEBSITE:https://goo.gl/maps/GoWq5QN1wvGCAFv39
URL:https://goo.gl/maps/GoWq5QN1wvGCAFv39
CONTACT:9428415401
ORGANIZER:LIBRARY RESOURCE CENTRE, PDEU, GANDHINAGAR
ATTACH;FMTTYPE="image/jpeg":
ATTENDEE;ROLE=REQ-PARTICIPANT;PARTSTAT=ACCEPTED;RSVP=TRUE;CN="Ravi Raj
  Kumar ":https://www.lislinks.com/profile/RaviRajKumar
ATTENDEE;ROLE=REQ-PARTICIPANT;PARTSTAT=ACCEPTED;RSVP=TRUE;CN="Vijay Si
 ngh":https://www.lislinks.com/profile/VijaySingh948
ATTENDEE;ROLE=REQ-PARTICIPANT;PARTSTAT=ACCEPTED;RSVP=TRUE;CN="suthar v
 ijaykumar kaushikbhai":https://www.lislinks.com/profile/sutharvijaykum
 arkaushikbhai
ATTENDEE;ROLE=REQ-PARTICIPANT;PARTSTAT=TENTATIVE;RSVP=TRUE;CN="rashmi 
 salvi":https://www.lislinks.com/profile/rashmisalvi
END:VEVENT
END:VCALENDAR
