BEGIN:VCALENDAR
PRODID:NingEventWidget-v1
VERSION:2.0
METHOD:PUBLISH
BEGIN:VTIMEZONE
TZID:Pacific/Midway
X-LIC-LOCATION:Pacific/Midway
BEGIN:STANDARD
TZOFFSETFROM:-1100
TZOFFSETTO:-1100
TZNAME:SST
DTSTART:19700101T000000
END:STANDARD
END:VTIMEZONE
BEGIN:VEVENT
UID:2013205:Event:1245845
DTSTAMP:20260421T095509Z
SUMMARY:Two Days National Conference on Role of Libraries and Institut
 ions in Research and Publication Ethics
DESCRIPTION:Two Days \"National Conference on Role of Libraries & Inst
 itutions in Research and Publication Ethics\"\r\nOrganized by  LRC Sci
 ence College and  KRC SRTM University, Nanded, Maharashtra\r\n\r\n\r\n
 \r\n\r\nRegistration Link:  https://forms.gle/zy2ZRYcFDV1P7jet6 Link t
 o Join WhatsApp grouphttp://https://forms.gle/zy2ZRYcFDV1P7jet6  https
 ://chat.whatsapp.com/D7lHEgdVp71GZSxbjM82JH?mode=wwt\n\nFor more infor
 mation visit https://www.lislinks.com/events/two-days-national-confere
 nce-on-role-of-libraries-amp
DTSTART;TZID=Pacific/Midway:20251219T000000
DTEND;TZID=Pacific/Midway:20251220T235900
CATEGORIES:national, conference
LOCATION:Nanded, Maharashtra
WEBSITE:https://forms.gle/zy2ZRYcFDV1P7jet6
URL:https://forms.gle/zy2ZRYcFDV1P7jet6
CONTACT:
ORGANIZER:NES Science Colleges Nanded &amp; KRC SRTM University Nanded
ATTACH;FMTTYPE="image/jpeg":
ATTENDEE;ROLE=REQ-PARTICIPANT;PARTSTAT=ACCEPTED;RSVP=TRUE;CN="Sandip G
 aikwad":https://www.lislinks.com/profile/GSandip
END:VEVENT
END:VCALENDAR
