BEGIN:VCALENDAR
PRODID:NingEventWidget-v1
VERSION:2.0
METHOD:PUBLISH
BEGIN:VTIMEZONE
TZID:Pacific/Midway
X-LIC-LOCATION:Pacific/Midway
BEGIN:STANDARD
TZOFFSETFROM:-1100
TZOFFSETTO:-1100
TZNAME:SST
DTSTART:19700101T000000
END:STANDARD
END:VTIMEZONE
BEGIN:VEVENT
UID:2013205:Event:1247767
DTSTAMP:20260423T234141Z
SUMMARY:Two Days International Seminar
DESCRIPTION:“Libraries and Information Technology:A Global Platform 
 for MultidisciplinaryKnowledge Integration and Innovation”\n\nFor mo
 re information visit https://www.lislinks.com/events/two-days-internat
 ional-seminar
DTSTART;TZID=Pacific/Midway:20260328T103000
DTEND;TZID=Pacific/Midway:20260329T173000
CATEGORIES:hybrid, "(online/offline)"
LOCATION:Government Law College Ujjain (Madhya Pradesh)
WEBSITE:http://Dewas Rd, behind CNG pump, Adarsh Nagar, Nagziri, Ujjai
 n, Madhya Pradesh 456010
URL:http://Dewas Rd, behind CNG pump, Adarsh Nagar, Nagziri, Ujjain, M
 adhya Pradesh 456010
CONTACT:07415546282
ORGANIZER:Dr. Dipti Lodwal
ATTACH;FMTTYPE="image/jpeg":https://storage.ning.com/topology/rest/1.0
 /file/get/31091225501?profile=original
ATTENDEE;ROLE=REQ-PARTICIPANT;PARTSTAT=ACCEPTED;RSVP=TRUE;CN="sangeeta
  sharma":https://www.lislinks.com/profile/sangeetasharma
ATTENDEE;ROLE=REQ-PARTICIPANT;PARTSTAT=ACCEPTED;RSVP=TRUE;CN="Ku. Dipt
 i Lodwal":https://www.lislinks.com/profile/KuDiptiLodwal
END:VEVENT
END:VCALENDAR
