BEGIN:VCALENDAR
PRODID:NingEventWidget-v1
VERSION:2.0
METHOD:PUBLISH
BEGIN:VTIMEZONE
TZID:Pacific/Midway
X-LIC-LOCATION:Pacific/Midway
BEGIN:STANDARD
TZOFFSETFROM:-1100
TZOFFSETTO:-1100
TZNAME:SST
DTSTART:19700101T000000
END:STANDARD
END:VTIMEZONE
BEGIN:VEVENT
UID:2013205:Event:1211252
DTSTAMP:20260420T191626Z
SUMMARY:Short-Term Course on Open Source Software for Library Manageme
 nt (OSSLM-2023) at IIT Kharagpur
DESCRIPTION:Short-Term Course on Open Source Software for Library Mana
 gement (OSSLM-2023)\n \nDate  : 24-29 July 2023\nVenue: Central Libr
 ary, IIT Kharagpur\n \nJointly organized by\nCentral Library\n(ISO 90
 01:2015 Certified)\n                  &\nNational Dig
 ital Library of India (NDLI)\nIndian Institute of Technology Kharagpur
 \nKharagpur-721302, India.\n \nWebsite: https://library.iitkgp.ac.in\
 n \nHow to Apply\nStep 1:  Interested participants may click on the 
 link and search using OSSLM to get the desired programme: https://erp.
 iitkgp.ac.in/CEP/courses.htm\nStep 2: Please create your login ID and 
 password after registering in the site. Once you get the login ID and 
 password, you may register for the short-term course.\nStep-3: Please 
 follow the instruction “How to Apply? and How to Pay?” and kindly 
 do the needful. Visit link: https://library.iitkgp.ac.in/howto.pdf\nSt
 ep 4:After successfully applied to OSSLM-2023, please send an email to
  us:  workshop@library.iitkgp.ac.in\nStep 5: Accommodation will be ar
 ranged on first-cum-first serve on payment basis. Kindly apply for acc
 ommodation in the given link: https://library.iitkgp.ac.in/ghouse.html
 \nFor details kindly download OSSLM-2023.pdf\n\nFor more information v
 isit https://www.lislinks.com/events/short-term-course-on-open-source-
 software-for-library-management
DTSTART;TZID=Pacific/Midway:20230724T090000
DTEND;TZID=Pacific/Midway:20230729T170000
CATEGORIES:workshop
LOCATION:Central Library, IIT Kharagpur
WEBSITE:https://erp.iitkgp.ac.in/CEP/courses.htm
URL:https://erp.iitkgp.ac.in/CEP/courses.htm
CONTACT:
ORGANIZER:Central Library, IIT Kharagpur
ATTACH;FMTTYPE="image/jpeg":
ATTENDEE;ROLE=REQ-PARTICIPANT;PARTSTAT=ACCEPTED;RSVP=TRUE;CN="Preethi 
 Aji m":https://www.lislinks.com/profile/PreethiAjim
ATTENDEE;ROLE=REQ-PARTICIPANT;PARTSTAT=ACCEPTED;RSVP=TRUE;CN="Jaya Mon
 dal":https://www.lislinks.com/profile/JayaMondal
ATTENDEE;ROLE=REQ-PARTICIPANT;PARTSTAT=ACCEPTED;RSVP=TRUE;CN="Hemanta 
 Kumar Biswal":https://www.lislinks.com/profile/HemantaKumarBiswal
ATTENDEE;ROLE=REQ-PARTICIPANT;PARTSTAT=ACCEPTED;RSVP=TRUE;CN="Sandip G
 aikwad":https://www.lislinks.com/profile/GSandip
ATTENDEE;ROLE=REQ-PARTICIPANT;PARTSTAT=ACCEPTED;RSVP=TRUE;CN="Rajneesh
  Ahirwar":https://www.lislinks.com/profile/RajneeshAhirwar
END:VEVENT
END:VCALENDAR
