BEGIN:VCALENDAR
PRODID:NingEventWidget-v1
VERSION:2.0
METHOD:PUBLISH
BEGIN:VTIMEZONE
TZID:Pacific/Midway
X-LIC-LOCATION:Pacific/Midway
BEGIN:STANDARD
TZOFFSETFROM:-1100
TZOFFSETTO:-1100
TZNAME:SST
DTSTART:19700101T000000
END:STANDARD
END:VTIMEZONE
BEGIN:VEVENT
UID:2013205:Event:1186929
DTSTAMP:20260421T203456Z
SUMMARY:SALIS 2022 National Conference on “Transformation of Learnin
 g Resource Centres in the Digital Era”
DESCRIPTION:SALIS 2022 National Conference on “Transformation of Lea
 rning Resource Centres in the Digital Era”\r\nDates: October 13-15, 
 2022\r\n(13th October, 2022 – Tutorial on “MOOCs, SWAYAM-NPTEL & I
 RINS”)14th & 15th October, 2022 – National Conference)Organized by
 Department of Library, K.S.Rangasamy College of Technology, Tiruchengo
 deJointly withSociety for the Advancement of Library and Information S
 cience (SALIS), ChennaiWe request you all to contribute Research paper
 s.FOR MORE DETAILS ABOUT THE CONFERENCE PLEASE VISIT:https://ksrctsali
 s2022.blogspot.com\n\nFor more information visit https://www.lislinks.
 com/events/salis-2022-national-conference-on-transformation-of-learnin
 g-reso
DTSTART;TZID=Pacific/Midway:20221013T000000
DTEND;TZID=Pacific/Midway:20221015T235900
CATEGORIES:conference
LOCATION:Department of Library, K.S.Rangasamy College of Technology, T
 iruchengode
WEBSITE:
URL:
CONTACT:
ORGANIZER:SALIS
ATTACH;FMTTYPE="image/jpeg":
ATTENDEE;ROLE=REQ-PARTICIPANT;PARTSTAT=ACCEPTED;RSVP=TRUE;CN="Dr. Bada
 n Barman":https://www.lislinks.com/profile/BadanBarman
END:VEVENT
END:VCALENDAR
