BEGIN:VCALENDAR
PRODID:NingEventWidget-v1
VERSION:2.0
METHOD:PUBLISH
BEGIN:VTIMEZONE
TZID:Pacific/Midway
X-LIC-LOCATION:Pacific/Midway
BEGIN:STANDARD
TZOFFSETFROM:-1100
TZOFFSETTO:-1100
TZNAME:SST
DTSTART:19700101T000000
END:STANDARD
END:VTIMEZONE
BEGIN:VEVENT
UID:2013205:Event:1203783
DTSTAMP:20260423T200117Z
SUMMARY:RRRLF Sponsored National Seminar on \"Role of Academic Librari
 es towards Self-Reliant Learning\"
DESCRIPTION:        Greetings from CENTRAL LIBRARY IFET COLLEGE O
 F ENGINEERING (An Autonomous Institution),  We are pleased to infor
 m you that we are organizing the RRRLF Sponsored One-day National Se
 minar on the topic of Role of Academic Libraries towards Self-Reliant
  Learning (NSALSL-2023) to be held on 18th March 2023, in the Mot
 her theresa  Seminar Hall, IFET College of Engineering, Villupuram.\
 nCall for the papers\nWe would like to extend an invitation to all att
 endees, including librarians, academicians, researchers, postgraduate 
 students, LIS professionals, information service providers, knowledge 
 professionals, and other pertinent individuals. We also invite you to 
 submit a paper for the seminar Role of academic libraries towards Self
 -Reliant learning.\nSubmission for Manuscript :\nThe following aspect
 s are required for submitting paper Abstract (200 words) and the full
  paper should be around 8 Pages. Font Style: Times New Roman. Font Siz
 e: 12.  \nArticle Submission through:   libseminar@ifet.ac.in\nImp
 ortant Dates:\nFull Paper Submission Last Date: 05.03.2023\nDate of Ac
 ceptance by Email: 10.03.2023\nRegistration Link: https://forms.gle/Y
 5W3BgpNFFhbhs3M8\nBank Account Details:\n     Beneficiary Name: I
 FET COLLEGE OF ENGINEERING     \n     Bank Name: ICICI BANK   
    Account Number: 150405005586,      IFSC Code:ICICOOO1504\n  
      Branch: LAWSPET, PONDICHERRY.\nUPI Payment Details:\n(You 
 can also transfer through Phone Pe, Ind Pay, Google Pay, and Paytm)\n
 UPI Number: 9003529962\nFor further information \nJoin the WhatsApp g
 roup: https://chat.whatsapp.com/FfborZLPWKqBgjW45KcTp6\nHerewith I en
 closed the Seminar brochure for Kindly find the attachment.RRRLF%20Sem
 inar%20IFET.pdf\nPlease share this with your academic and research cir
 cle.\nThanks and Regards\nDr. V. RANGASAMY, Organising Secretary  Lib
 rarian, IFET College of Engineering (Autonomous), IFET Nagar, Gangaram
 palyam, Villupuram, TN, India, 605 108. cell: 9566446983\nE-mail: ran
 ga19.ba@gmail.com \n\nFor more information visit https://www.lislinks
 .com/events/rrrlf-sponsored-national-seminar-on-role-of-academic-libra
 ries
DTSTART;TZID=Pacific/Midway:20230318T000000
DTEND;TZID=Pacific/Midway:20230318T235900
CATEGORIES:seminar
LOCATION:VIllupuram
WEBSITE:http://www.ifet.ac.in
URL:http://www.ifet.ac.in
CONTACT:9566446983
ORGANIZER;CN="RANGASAMY V":https://www.lislinks.com/profile/RANGASAMYV
ATTACH;FMTTYPE="image/jpeg":
ATTENDEE;ROLE=REQ-PARTICIPANT;PARTSTAT=ACCEPTED;RSVP=TRUE;CN="RANGASAM
 Y V":https://www.lislinks.com/profile/RANGASAMYV
END:VEVENT
END:VCALENDAR
