BEGIN:VCALENDAR
PRODID:NingEventWidget-v1
VERSION:2.0
METHOD:PUBLISH
BEGIN:VTIMEZONE
TZID:Pacific/Midway
X-LIC-LOCATION:Pacific/Midway
BEGIN:STANDARD
TZOFFSETFROM:-1100
TZOFFSETTO:-1100
TZNAME:SST
DTSTART:19700101T000000
END:STANDARD
END:VTIMEZONE
BEGIN:VEVENT
UID:2013205:Event:1244815
DTSTAMP:20260421T065036Z
SUMMARY:RESCOMM 2025: Research Communication Conclave
DESCRIPTION:Ashoka University is organizing a three-day event, ​
 Research Communication Conclave” 17 — 19 December 2025 at Ash
 oka University, Sonipat, Haryana, India. The conclave is envisioned as
  a dynamic platform that brings together researchers, students, educa
 tors, industry experts, and communication specialists to explore innov
 ative strategies for bridging the gap between academic research and so
 ciety.\n\nFor more information visit https://www.lislinks.com/events/r
 escomm-2025
DTSTART;TZID=Pacific/Midway:20251217T090000
DTEND;TZID=Pacific/Midway:20251219T180000
CATEGORIES:conference
LOCATION:Ashoka University
WEBSITE:https://indiabioscience.org/events/research-communication-conc
 lave-2025-bringing-research-into-action
URL:https://indiabioscience.org/events/research-communication-conclave
 -2025-bringing-research-into-action
CONTACT:
ORGANIZER:Ashoka University
ATTACH;FMTTYPE="image/jpeg":https://storage.ning.com/topology/rest/1.0
 /file/get/30986250295?profile=original
ATTENDEE;ROLE=REQ-PARTICIPANT;PARTSTAT=TENTATIVE;RSVP=TRUE;CN="Dr. Ash
 is Biswas":https://www.lislinks.com/profile/DrAshisBiswas
END:VEVENT
END:VCALENDAR
