BEGIN:VCALENDAR
PRODID:NingEventWidget-v1
VERSION:2.0
METHOD:PUBLISH
BEGIN:VTIMEZONE
TZID:Pacific/Midway
X-LIC-LOCATION:Pacific/Midway
BEGIN:STANDARD
TZOFFSETFROM:-1100
TZOFFSETTO:-1100
TZNAME:SST
DTSTART:19700101T000000
END:STANDARD
END:VTIMEZONE
BEGIN:VEVENT
UID:2013205:Event:1186583
DTSTAMP:20260421T211147Z
SUMMARY:Padmashri Dr. S. R. Ranganathan Memorial Talk
DESCRIPTION:\r\nMeeting Link: https://meet.google.com/ixa-kgdj-hne\n\n
 For more information visit https://www.lislinks.com/events/padmashri-d
 r-s-r-ranganathan-memorial-talk
DTSTART;TZID=Pacific/Midway:20220812T143000
DTEND;TZID=Pacific/Midway:20220812T153000
CATEGORIES:"librarian's day"
LOCATION:Virtual
WEBSITE:https://meet.google.com/ixa-kgdj-hne
URL:https://meet.google.com/ixa-kgdj-hne
CONTACT:
ORGANIZER:National Institute of Design, Assam
ATTACH;FMTTYPE="image/jpeg":
ATTENDEE;ROLE=REQ-PARTICIPANT;PARTSTAT=ACCEPTED;RSVP=TRUE;CN="Pakki Na
 rayana Murty":https://www.lislinks.com/profile/PakkiNarayanaMurty
ATTENDEE;ROLE=REQ-PARTICIPANT;PARTSTAT=ACCEPTED;RSVP=TRUE;CN="Tonmay S
 abhapandit":https://www.lislinks.com/profile/TonmaySabhapandit
ATTENDEE;ROLE=REQ-PARTICIPANT;PARTSTAT=ACCEPTED;RSVP=TRUE;CN="Dr. Bada
 n Barman":https://www.lislinks.com/profile/BadanBarman
END:VEVENT
END:VCALENDAR
