BEGIN:VCALENDAR
PRODID:NingEventWidget-v1
VERSION:2.0
METHOD:PUBLISH
BEGIN:VTIMEZONE
TZID:Pacific/Midway
X-LIC-LOCATION:Pacific/Midway
BEGIN:STANDARD
TZOFFSETFROM:-1100
TZOFFSETTO:-1100
TZNAME:SST
DTSTART:19700101T000000
END:STANDARD
END:VTIMEZONE
BEGIN:VEVENT
UID:2013205:Event:1221564
DTSTAMP:20260423T131939Z
SUMMARY:NATIONAL SEMINAR:Role of Library and Information Centers In Di
 saster Management
DESCRIPTION:National Seminar at Central Library Christian College, Kat
 takada on 11 October 2023 \n\nRegistration%20Form.docx\n\n  KSCSTE-
 %20Brousure.pdf\n\n\n\nFor more information visit https://www.lislinks
 .com/events/national-seminar-role-of-library-and-information-centers-i
 n
DTSTART;TZID=Pacific/Midway:20231011T100000
DTEND;TZID=Pacific/Midway:20231011T160000
CATEGORIES:seminar, paper, presentation
LOCATION:SEMINAR HALL, CHRISTIAN COLLEGE, KATTAKADA, TRIVANDRUM, KERAL
 A
WEBSITE:https://www.christiancollegektda.org/
URL:https://www.christiancollegektda.org/
CONTACT:8547075155
ORGANIZER:CENTRAL LIBRARY
ATTACH;FMTTYPE="image/jpeg":
ATTENDEE;ROLE=REQ-PARTICIPANT;PARTSTAT=ACCEPTED;RSVP=TRUE;CN=suguna:ht
 tps://www.lislinks.com/profile/suguna
END:VEVENT
END:VCALENDAR
