BEGIN:VCALENDAR
PRODID:NingEventWidget-v1
VERSION:2.0
METHOD:PUBLISH
BEGIN:VTIMEZONE
TZID:Pacific/Midway
X-LIC-LOCATION:Pacific/Midway
BEGIN:STANDARD
TZOFFSETFROM:-1100
TZOFFSETTO:-1100
TZNAME:SST
DTSTART:19700101T000000
END:STANDARD
END:VTIMEZONE
BEGIN:VEVENT
UID:2013205:Event:1182404
DTSTAMP:20260422T083423Z
SUMMARY:National Level FDP Programme on UNLOCKING THE POWER OF LIBRARY
  FOR RESEARCH
DESCRIPTION:Dear all\n\nGreetings from Kristu Jayanti College, Autonom
 ous Library and Information Centre and Library Resource Usage Optimisa
 tion Committee Organising Six Days National Faculty Development Progra
 m On Unlocking the Power of Library for Research\n\nRegistration Link 
 : https://portal.kristujayanti.edu.in/register-unlocking-the-power-of
 -library-for-research\n\nLast date to register : May 21,2022, 6:00 PM\
 n\nRegistration Fee : Rs 200\n\n\nFor more information visit https://w
 ww.lislinks.com/events/national-level-fdp-programme-on-unlocking-the-p
 ower-of-library
DTSTART;TZID=Pacific/Midway:20220523T000000
DTEND;TZID=Pacific/Midway:20220528T235900
CATEGORIES:fdp, programme
LOCATION:Online mode
WEBSITE:
URL:
CONTACT:
ORGANIZER:Kristu Jayanti College Bengaluru
ATTACH;FMTTYPE="image/jpeg":https://storage.ning.com/topology/rest/1.0
 /file/get/10490025479?profile=original
ATTENDEE;ROLE=REQ-PARTICIPANT;PARTSTAT=ACCEPTED;RSVP=TRUE;CN="Damodar 
 Dashrath Waghmare":https://www.lislinks.com/profile/MrDamodarDasharath
 Waghmare
ATTENDEE;ROLE=REQ-PARTICIPANT;PARTSTAT=ACCEPTED;RSVP=TRUE;CN="Hanis Al
 i Fathima.K":https://www.lislinks.com/profile/HanisAliFathimaK
ATTENDEE;ROLE=REQ-PARTICIPANT;PARTSTAT=ACCEPTED;RSVP=TRUE;CN=Amit:http
 s://www.lislinks.com/profile/AmitNatubhaiParmar
ATTENDEE;ROLE=REQ-PARTICIPANT;PARTSTAT=ACCEPTED;RSVP=TRUE;CN="prabhu.c
 ":https://www.lislinks.com/profile/prabhuc
END:VEVENT
END:VCALENDAR
