BEGIN:VCALENDAR
PRODID:NingEventWidget-v1
VERSION:2.0
METHOD:PUBLISH
BEGIN:VTIMEZONE
TZID:Pacific/Midway
X-LIC-LOCATION:Pacific/Midway
BEGIN:STANDARD
TZOFFSETFROM:-1100
TZOFFSETTO:-1100
TZNAME:SST
DTSTART:19700101T000000
END:STANDARD
END:VTIMEZONE
BEGIN:VEVENT
UID:2013205:Event:1222193
DTSTAMP:20260422T085941Z
SUMMARY:National Conference on Digital Library: Emerging Trends in Lib
 raries
DESCRIPTION:Jai Hind We are pleased to announce that Raja Kunwar Singh
  Subharti Department of Library & Information Science, Swami Vivekanan
 d Subharti University, Meerut in collaboration with Society for Inform
 ation & Research Studies, New Delhi (SIRs) is organising National Conf
 erence on Digital Library on 24 & 25th November 2023.  Venue- Swami Vi
 vekanand Subharti University, NH-58 Delhi- Haridwar bypass Road Meerut
 , Uttar Pradesh.  All eminent Professionals/Research Scholars and othe
 r interested candidates are invited to highlight their research works,
  participate and contribute research papers. Send their paper to: emai
 l: conference.dlissvsu@gmail.com latest by 15 October 2023.\r\nLink fo
 r Registration:- http://seminar.subharti.org/NCDL2023/delegate-reg.php
 \r\nContact us:\r\nOrganizing Secretary Prof. (Dr.) Sudhir Tyagi - 074
 51998425, 9639011195 Email - libraryscience@subharti.org Organizing Te
 am Dr. Javed Khan - 08941010351 Dr. Sapna Sharma -07983593791 Dr. Alpa
 na - 09837989867\n\nFor more information visit https://www.lislinks.co
 m/events/national-conference-on-digital-library-emerging-trends-in-1
DTSTART;TZID=Pacific/Midway:20231124T000000
DTEND;TZID=Pacific/Midway:20231125T235900
CATEGORIES:conference
LOCATION:Swami Vivekanand Subharti University, NH-58 Delhi- Haridwar b
 ypass Road Meerut
WEBSITE:
URL:
CONTACT:7451998425
ORGANIZER:Raja Kunwar Singh Subharti Department of Library &amp; Infor
 mation Science, Swami Vivekanand Subharti University, Meerut and Socie
 ty for Information and Research Studies, New Delhi
ATTACH;FMTTYPE="image/jpeg":
ATTENDEE;ROLE=REQ-PARTICIPANT;PARTSTAT=ACCEPTED;RSVP=TRUE;CN="ashutosh
  kushwaha":https://www.lislinks.com/profile/ashutoshkushwaha
END:VEVENT
END:VCALENDAR
