BEGIN:VCALENDAR
PRODID:NingEventWidget-v1
VERSION:2.0
METHOD:PUBLISH
BEGIN:VTIMEZONE
TZID:Pacific/Midway
X-LIC-LOCATION:Pacific/Midway
BEGIN:STANDARD
TZOFFSETFROM:-1100
TZOFFSETTO:-1100
TZNAME:SST
DTSTART:19700101T000000
END:STANDARD
END:VTIMEZONE
BEGIN:VEVENT
UID:2013205:Event:1185130
DTSTAMP:20260420T080828Z
SUMMARY:National Conference on Current Trends and Challenges in 21st L
 ibrarianship (CTCLIS21)
DESCRIPTION:Themes of the Conference:\r\nThe themes of the conference 
 are two fold as given below:\r\n1.Â  Â  Â  Current Trends in Librarian
 ship\r\n2.Â  Â  Â  Current Challenges\r\n\r\nCall for Papers:\r\nWe ar
 e inviting the contributors to submit their original research manuscri
 pts to be included in conference proceedings on the theme and sub them
 es of the conference with ISBN which is scheduled to be released in Na
 tional Conference on â€œCurrent Trends and Challenges in 21st Libraria
 nship (CTCLIS21).\r\n\r\n\r\nThe off-line conference is scheduled to b
 e held on 30th September & 1st of October 2022 (Friday and Saturday).Â
  \r\n\r\n\r\nThe full articles are to be submitted to the Conference e
 ditors using the Google registration form. Full paper alone will be ac
 cepted for the conference.\r\n\r\n\r\nThe University Library, Tamil Na
 du Physical Education and Sports University, Melakottaiyur, Chennai is
  inviting Librarians, Teaching Faculties, researchers, graduate studen
 ts, experts and other academic communities may submit proposals full p
 apers - for the National Conference on Current Trends and Challenges i
 n 21st Academic Librarianship on or before 15thÂ  September 2022. And 
 no papers will be accepted beyond this date.\r\n\r\n\r\nTo send your p
 aper for consideration, read the guidelines for paper submission.\r\n\
 r\n\r\nÂ \r\nOrganisedÂ by:\r\nUniversity Library,Â Tamil Nadu Physica
 l Education and Sports University (TNPESU)Â In association withÂ Madra
 s Library AssociationÂ (MALA).  \r\nVenue: Auditorium, TNPESU, Chennai
 -127\r\n\r\n\r\nCTCLIS21-CONFERENCE SPONSORSHIP FORM: https://docs.goo
 gle.com/forms/d/e/1FAIpQLSeAT6jDgq8pf68TIDe6ccjhbzU5bd9R6j_OZYuNFtw_94
 GL3Q/viewform\r\n\r\nÂ \r\n\r\nEvent Website: https://sites.google.com
 /view/ctclis21/ \r\n\r\nTo View The Conference Brochure Click Here: ht
 tps://drive.google.com/file/d/1wNnoDUGIVNKYN4mxwhf4ucIq4dAvl_M3/view\n
 \nFor more information visit https://www.lislinks.com/events/national-
 conference-on-current-trends-and-challenges-in-21st
DTSTART;TZID=Pacific/Midway:20220930T090000
DTEND;TZID=Pacific/Midway:20221001T180000
CATEGORIES:conference
LOCATION:University Library, Tamil Nadu Physical Education and Sports 
 University
WEBSITE:https://sites.google.com/view/ctclis21/
URL:https://sites.google.com/view/ctclis21/
CONTACT:94444820392
ORGANIZER:Dr.N. Ashok Kumar
ATTACH;FMTTYPE="image/jpeg":
ATTENDEE;ROLE=REQ-PARTICIPANT;PARTSTAT=ACCEPTED;RSVP=TRUE;CN="Prasanth
  Kumar":https://www.lislinks.com/profile/kpkkprasanth
ATTENDEE;ROLE=REQ-PARTICIPANT;PARTSTAT=TENTATIVE;RSVP=TRUE;CN="Dola Gh
 osh":https://www.lislinks.com/profile/DolaGhosh
END:VEVENT
END:VCALENDAR
