BEGIN:VCALENDAR
PRODID:NingEventWidget-v1
VERSION:2.0
METHOD:PUBLISH
BEGIN:VTIMEZONE
TZID:Pacific/Midway
X-LIC-LOCATION:Pacific/Midway
BEGIN:STANDARD
TZOFFSETFROM:-1100
TZOFFSETTO:-1100
TZNAME:SST
DTSTART:19700101T000000
END:STANDARD
END:VTIMEZONE
BEGIN:VEVENT
UID:2013205:Event:1208474
DTSTAMP:20260425T154408Z
SUMMARY:MANLIBNET 2023 - International Conference on “Empowering Lib
 raries, Connecting Communities: Innovation, Collaboration, and Entrepr
 eneurship
DESCRIPTION:\r\nTheme of Conference: Empowering Libraries, Connecting 
 Communities: Innovation, Collaboration, and Entrepreneurship\r\nDate: 
 October 5 - 7, 2023\r\nVenue: Institute of Management Technology, Raj 
 Nagar, Ghaziabad, Uttar Pradesh, India\r\nMANLIBNET 2023 Conference Po
 rtal: https://www.imt.edu/manlibnet2023\r\nMANLIBNET 2023 Conference B
 rochure: http://web.imt.edu/downloadfiles/manlibnet2023-brochure.pdf\r
 \nMANLIBNET 2023 Abstract Submission: manlibnet2023@gmail.com\r\nMANLI
 BNET 2023 Full Paper Submission Form: https://forms.gle/PchaGzx5ijJ7LW
 uK9\r\n\r\n\r\n\r\n \n\nFor more information visit https://www.lislin
 ks.com/events/manlibnet-2023-international-conference-on-empowering-li
 braries
DTSTART;TZID=Pacific/Midway:20231005T000000
DTEND;TZID=Pacific/Midway:20231007T235900
CATEGORIES:international, conference
LOCATION:Institute of Management Technology
WEBSITE:https://www.imt.edu/manlibnet2023
URL:https://www.imt.edu/manlibnet2023
CONTACT:0120-4083 302
ORGANIZER:Akhtar Hussain, Organising Secretary-MANLIBNET 2023
ATTACH;FMTTYPE="image/jpeg":https://storage.ning.com/topology/rest/1.0
 /file/get/11021669293?profile=original
ATTENDEE;ROLE=REQ-PARTICIPANT;PARTSTAT=ACCEPTED;RSVP=TRUE;CN="Dr. Nant
 u Acharjya":https://www.lislinks.com/profile/NantuAchaarjya
ATTENDEE;ROLE=REQ-PARTICIPANT;PARTSTAT=ACCEPTED;RSVP=TRUE;CN="Vijay Si
 ngh":https://www.lislinks.com/profile/VijaySingh948
ATTENDEE;ROLE=REQ-PARTICIPANT;PARTSTAT=ACCEPTED;RSVP=TRUE;CN="muhammed
  siyad p s":https://www.lislinks.com/profile/muhammedsiyadps
ATTENDEE;ROLE=REQ-PARTICIPANT;PARTSTAT=ACCEPTED;RSVP=TRUE;CN="Akhtar H
 ussain":https://www.lislinks.com/profile/AkhtarHussain
ATTENDEE;ROLE=REQ-PARTICIPANT;PARTSTAT=TENTATIVE;RSVP=TRUE;CN="Kauser 
 nisa":https://www.lislinks.com/profile/Kausernisa
ATTENDEE;ROLE=REQ-PARTICIPANT;PARTSTAT=TENTATIVE;RSVP=TRUE;CN="Ashique
  Ali C A":https://www.lislinks.com/profile/AshiqueAliCA
END:VEVENT
END:VCALENDAR
