BEGIN:VCALENDAR
PRODID:NingEventWidget-v1
VERSION:2.0
METHOD:PUBLISH
BEGIN:VTIMEZONE
TZID:Pacific/Midway
X-LIC-LOCATION:Pacific/Midway
BEGIN:STANDARD
TZOFFSETFROM:-1100
TZOFFSETTO:-1100
TZNAME:SST
DTSTART:19700101T000000
END:STANDARD
END:VTIMEZONE
BEGIN:VEVENT
UID:2013205:Event:1186741
DTSTAMP:20260419T102622Z
SUMMARY:National Conference on Best Practices in Library and Informati
 on Centers (LIBCON2022)
DESCRIPTION:The Knowledge Centre of the Digital University Kerala is o
 rganizing the “National Conference on Best Practices in Library and 
 Information Centers.” This is being conducted from 21st September to
  23rd September 2022.  The Conference provides library professionals a
  platform to showcase their best practices. We invite presentations an
 d descriptive papers on the best practices that you have adopted in yo
 ur libraries. 30 best practices will be selected and allowed to the pr
 esented at the Conference.  AWARDS FOR THREE BEST PRACTICES\r\nFirst A
 ward: Rs.15,000/- (Rupees Fifteen Thousand Only) Second Award: Rs.10,0
 00/- (Rupees Ten Thousand Only) Third Award: Rs.5,000/- (Rupees Five T
 housand Only)\r\nThe descriptive papers on the best practices will be 
 published in a volume with ISBN. The Conference will be held online. O
 thers also can participate without papers and presentations and unders
 tand what our peer people are doing in their libraries. You may emulat
 e them later. Registration for Papers Presentation Rs. 1000/- Once the
  best practice is selected for presentation by a selection committee p
 ay the above registration fee by 31st August 2022. You may also submit
  the descriptive paper by 12th September 2022 for publication in the v
 olume.\r\nRegistration fee: Rs.200/-\r\nE-Certificate will be issued t
 o all participants based on their role in the conference. 10 presentat
 ions are allowed for presentation in one day. For Registration and Mor
 e details, please visit: https://sites.google.com/duk.ac.in/libcon2022
 /home\r\nThanking you Organizing Secretary  Dr. Narayana D Assistant L
 ibrarian Digital University Kerala 7013587028 (Mob)http://https://site
 s.google.com/duk.ac.in/libcon2022/homeNational Conference on Best Prac
 tices in Library and Information Centers\n\nFor more information visit
  https://www.lislinks.com/events/libcon2022
DTSTART;TZID=Pacific/Midway:20220921T000000
DTEND;TZID=Pacific/Midway:20220923T235900
CATEGORIES:conference
LOCATION:Trivandrum, Kerala
WEBSITE:https://sites.google.com/duk.ac.in/libcon2022/home
URL:https://sites.google.com/duk.ac.in/libcon2022/home
CONTACT:7013587028
ORGANIZER;CN="Dr. Narayana D":https://www.lislinks.com/profile/Narayan
 a
ATTACH;FMTTYPE="image/jpeg":
ATTENDEE;ROLE=REQ-PARTICIPANT;PARTSTAT=ACCEPTED;RSVP=TRUE;CN="Anusha M
 agil":https://www.lislinks.com/profile/AnushaMagil
ATTENDEE;ROLE=REQ-PARTICIPANT;PARTSTAT=ACCEPTED;RSVP=TRUE;CN="Dr. Nara
 yana D":https://www.lislinks.com/profile/Narayana
END:VEVENT
END:VCALENDAR
