BEGIN:VCALENDAR
PRODID:NingEventWidget-v1
VERSION:2.0
METHOD:PUBLISH
BEGIN:VTIMEZONE
TZID:Pacific/Midway
X-LIC-LOCATION:Pacific/Midway
BEGIN:STANDARD
TZOFFSETFROM:-1100
TZOFFSETTO:-1100
TZNAME:SST
DTSTART:19700101T000000
END:STANDARD
END:VTIMEZONE
BEGIN:VEVENT
UID:2013205:Event:1217756
DTSTAMP:20260422T044333Z
SUMMARY:Leveraging Microsoft Power BI for Library Metrics
DESCRIPTION:IIMB_Library_Power_BI_Workshop.pdf\n\nFor more information
  visit https://www.lislinks.com/events/leveraging-microsoft-power-bi-f
 or-library-metrics
DTSTART;TZID=Pacific/Midway:20230811T100000
DTEND;TZID=Pacific/Midway:20230811T120000
CATEGORIES:workshop
LOCATION:IIM Bangalore
WEBSITE:
URL:
CONTACT:
ORGANIZER;CN="Rajesha H T":https://www.lislinks.com/profile/RajeshaHT
ATTACH;FMTTYPE="image/jpeg":
ATTENDEE;ROLE=REQ-PARTICIPANT;PARTSTAT=ACCEPTED;RSVP=TRUE;CN="Rajesha 
 H T":https://www.lislinks.com/profile/RajeshaHT
END:VEVENT
END:VCALENDAR
