BEGIN:VCALENDAR
PRODID:NingEventWidget-v1
VERSION:2.0
METHOD:PUBLISH
BEGIN:VTIMEZONE
TZID:Pacific/Midway
X-LIC-LOCATION:Pacific/Midway
BEGIN:STANDARD
TZOFFSETFROM:-1100
TZOFFSETTO:-1100
TZNAME:SST
DTSTART:19700101T000000
END:STANDARD
END:VTIMEZONE
BEGIN:VEVENT
UID:2013205:Event:1216833
DTSTAMP:20260422T012622Z
SUMMARY:Koha Unleashed: Advanced Two-Day Virtual Training
DESCRIPTION:Koha Unleashed: Advanced Two-Day Virtual Training  Organi
 zed by: LibAuto- A Leading Library Automation & Digitization Company i
 n India  Day and Date: Saturday & Sunday 12-13 August, 2023 Time: 10
 .00 am to 1.30 pm Last Date: 10-08-2023 or until the availability of 
 seats.\nLink for Registration: https://bit.ly/Koha_Registration_3\nJo
 in Whatsapp Group for Upcoming Events: https://chat.whatsapp.com/CZrMB
 0Vrdm1EmCBpDhMAv7\n\nClick here to check details\n\nFor more informati
 on visit https://www.lislinks.com/events/koha-unleashed-advanced-two-d
 ay-virtual-training-date-12-13
DTSTART;TZID=Pacific/Midway:20230812T100000
DTEND;TZID=Pacific/Midway:20230813T133000
CATEGORIES:koha, "unleashed:", advanced, two-day, virtual, training
LOCATION:Online
WEBSITE:https://lispp.blogspot.com/
URL:https://lispp.blogspot.com/
CONTACT:9463116032
ORGANIZER:LibAuto- A Leading Library Automation &amp; Digitization Com
 pany in India
ATTACH;FMTTYPE="image/jpeg":https://storage.ning.com/topology/rest/1.0
 /file/get/12161785496?profile=original
ATTENDEE;ROLE=REQ-PARTICIPANT;PARTSTAT=ACCEPTED;RSVP=TRUE;CN="Dr Manis
 ha Sharma":https://www.lislinks.com/profile/GurmeetSingh290
END:VEVENT
END:VCALENDAR
