BEGIN:VCALENDAR
PRODID:NingEventWidget-v1
VERSION:2.0
METHOD:PUBLISH
BEGIN:VTIMEZONE
TZID:Pacific/Midway
X-LIC-LOCATION:Pacific/Midway
BEGIN:STANDARD
TZOFFSETFROM:-1100
TZOFFSETTO:-1100
TZNAME:SST
DTSTART:19700101T000000
END:STANDARD
END:VTIMEZONE
BEGIN:VEVENT
UID:2013205:Event:1240403
DTSTAMP:20260420T113638Z
SUMMARY:Invitation to Register – Webinar on \"Reading Innovations: E
 mbracing the Future of Libraries\" (19th June 2025).
DESCRIPTION:Invitation to Register – Webinar on \"Reading Innovation
 s: Embracing the Future of Libraries\" (19th June 2025).\n\nDear Libra
 ry Professionals,\nWe are pleased to invite you to participate in the 
 upcoming webinar titled \"Reading Innovations: Embracing the Future of
  Libraries,\" scheduled to be held on 19th June 2025.\n\nThis webinar 
 will explore innovative reading activities. It aims to bring together 
 library professionals, educators, and information specialists to discu
 ss innovative strategies that enhance user engagement and promote life
 long learning.\n\nEvent Details:📅 Date: 19th June 2025🕘 Time: 11
 .00 am to 12.30 pm📍 Mode: Online (link will be shared upon registra
 tion)\n\n💰 Registration Fee: Rs. 100\n\nTo register, please fill ou
 t the following Google Form:🔗 https://forms.gle/vNQ4NQSNQmxX1JNt7\n
 \nWe encourage all library and information professionals to take part 
 in this insightful event.\n\nWe look forward to your enthusiastic part
 icipation.\n\n--Thanks & Regards,\nMs. Chinmayee Bhange,Librarian,St. 
 Francis Institute of Technology (Engineering College),Mumbai - Maharas
 htra.Email ID.: chinmayeebhange@gmail.comhttp://sfitlibrary.blogspot.i
 nhttps://chinmayeebhange.blogspot.com\n\nNote: Forwarded as received.\
 n\nFor more information visit https://www.lislinks.com/events/invitati
 on-to-register-webinar-on-reading-innovations-embracing
DTSTART;TZID=Pacific/Midway:20250619T110000
DTEND;TZID=Pacific/Midway:20250619T123000
CATEGORIES:webinar
LOCATION:Online
WEBSITE:
URL:
CONTACT:
ORGANIZER:St. Francis Institute of Technology (Engineering College), M
 umbai - Maharashtra.
ATTACH;FMTTYPE="image/jpeg":
ATTENDEE;ROLE=REQ-PARTICIPANT;PARTSTAT=ACCEPTED;RSVP=TRUE;CN="samidha 
 vaidya":https://www.lislinks.com/profile/samidhavaidya
ATTENDEE;ROLE=REQ-PARTICIPANT;PARTSTAT=ACCEPTED;RSVP=TRUE;CN="Dr. U. P
 RAMANATHAN":https://www.lislinks.com/profile/PRAMANATHANU
END:VEVENT
END:VCALENDAR
