BEGIN:VCALENDAR
PRODID:NingEventWidget-v1
VERSION:2.0
METHOD:PUBLISH
BEGIN:VTIMEZONE
TZID:Pacific/Midway
X-LIC-LOCATION:Pacific/Midway
BEGIN:STANDARD
TZOFFSETFROM:-1100
TZOFFSETTO:-1100
TZNAME:SST
DTSTART:19700101T000000
END:STANDARD
END:VTIMEZONE
BEGIN:VEVENT
UID:2013205:Event:1245386
DTSTAMP:20260421T021132Z
SUMMARY:ICAL 2026: International Conference on Asian Libraries on Evol
 ving Information Landscape: Making Libraries Future-Ready
DESCRIPTION: 16-18tth APRIL 2026 Indian Institute of Management, Kash
 ipur, Uttarakhand, India in collaboration with  Asian Library Associa
 tion, New Delhi, India Theme  ::: “Evolving Information Landscape: 
 Making Libraries Future-Ready”\n\nFor more information visit https:/
 /www.lislinks.com/events/international-conference-on-asian-libraries-i
 cal-2026
DTSTART;TZID=Pacific/Midway:20260416T090000
DTEND;TZID=Pacific/Midway:20260418T170000
CATEGORIES:conference
LOCATION:IIM, Kashipur, Uttarakhand
WEBSITE:https://www.iimkashipur.ac.in
URL:https://www.iimkashipur.ac.in
CONTACT:+91-76785 16446/ +91-9868335593
ORGANIZER:IIM Kashipur &amp; Asian Library Association
ATTACH;FMTTYPE="image/jpeg":
ATTENDEE;ROLE=REQ-PARTICIPANT;PARTSTAT=ACCEPTED;RSVP=TRUE;CN="sangeeta
  sharma":https://www.lislinks.com/profile/sangeetasharma
ATTENDEE;ROLE=REQ-PARTICIPANT;PARTSTAT=ACCEPTED;RSVP=TRUE;CN="Surendra
  Singh":https://www.lislinks.com/profile/SurendraSingh
ATTENDEE;ROLE=REQ-PARTICIPANT;PARTSTAT=TENTATIVE;RSVP=TRUE;CN="SANJEET
  SEHRAWAT":https://www.lislinks.com/profile/SANJEETSEHRAWAT
ATTENDEE;ROLE=REQ-PARTICIPANT;PARTSTAT=TENTATIVE;RSVP=TRUE;CN="Dr. Ash
 is Biswas":https://www.lislinks.com/profile/DrAshisBiswas
END:VEVENT
END:VCALENDAR
