BEGIN:VCALENDAR
PRODID:NingEventWidget-v1
VERSION:2.0
METHOD:PUBLISH
BEGIN:VTIMEZONE
TZID:Pacific/Midway
X-LIC-LOCATION:Pacific/Midway
BEGIN:STANDARD
TZOFFSETFROM:-1100
TZOFFSETTO:-1100
TZNAME:SST
DTSTART:19700101T000000
END:STANDARD
END:VTIMEZONE
BEGIN:VEVENT
UID:2013205:Event:1247105
DTSTAMP:20260421T021145Z
SUMMARY:International Conference on Libraries for Sustainable Futures:
  Collaboration, Technology and Knowledge Sharing (Hybrid)
DESCRIPTION:Under the auspices of the\r\nDepartment of Library and Inf
 ormation Science\r\nUniversity of Kerala, Thiruvananthapuram\r\nand\r\
 nUniversity Library\r\nUniversity of Kerala, Thiruvananthapuram\r\n \
 r\n \r\nVenue\r\nSenate Chamber, University of Kerala\r\nPalayam, Thi
 ruvananthapuram\r\n \r\nDate\r\n09-11 March 2026\r\n \r\nFor more de
 tails contact: icdlisku@gmail.com\n\nFor more information visit https:
 //www.lislinks.com/events/international-conference-libraries-for-susta
 inable-futures
DTSTART;TZID=Pacific/Midway:20260210T180000
DTEND;TZID=Pacific/Midway:20260228T190000
CATEGORIES:international, conference
LOCATION:Thiruvananthapuram
WEBSITE:https://greenlibs.in/
URL:https://greenlibs.in/
CONTACT:9496812295
ORGANIZER:Dr. SUDHI S VIJAYAN, Head, DLIS, University of Kerala, Thiru
 vananthapuram
ATTACH;FMTTYPE="image/jpeg":https://storage.ning.com/topology/rest/1.0
 /file/get/31083947492?profile=original
ATTENDEE;ROLE=REQ-PARTICIPANT;PARTSTAT=ACCEPTED;RSVP=TRUE;CN="Dr. SUDH
 I S VIJAYAN":https://www.lislinks.com/profile/SUDHISVIJAYAN
END:VEVENT
END:VCALENDAR
