BEGIN:VCALENDAR
PRODID:NingEventWidget-v1
VERSION:2.0
METHOD:PUBLISH
BEGIN:VTIMEZONE
TZID:Pacific/Midway
X-LIC-LOCATION:Pacific/Midway
BEGIN:STANDARD
TZOFFSETFROM:-1100
TZOFFSETTO:-1100
TZNAME:SST
DTSTART:19700101T000000
END:STANDARD
END:VTIMEZONE
BEGIN:VEVENT
UID:2013205:Event:1245885
DTSTAMP:20260422T061525Z
SUMMARY:ICSSR Sponsored Two Days National Seminar on Role of Universit
 y Libraries towards Realizing Viksit Bharat @ 2047 (RULVB@2047)
DESCRIPTION:ICSSR Sponsored Two Days National Seminar on ’Role of Un
 iversity Libraries towards realizing Viksit Bharat @ 2047 (RULVB@2047)
 ’\r\nDates: 23rd-24th January, 2026 Organized by\r\nDept. of Library
  and Information Science & Central Library\r\nDravidian University, Ku
 ppam, Andhra Pradesh\r\nCALL FOR PAPER PRESENTATION\r\nThe professiona
 ls are invited to submit the original paper based on research survey, 
 practice, theoretical and empirical research, case studies on the abov
 e theme or sub themes of the seminar. Based on the technical committee
  recommendations papers for the national seminar shall be selected and
  published in the seminar volume (with ISBN number). Registration for 
 all Authors is mandatory for paper presentation. Authors can submit a 
 soft copy of their papers by email to the editor at reachdlis@gmail.co
 m. The last date for submission of papers is December 31, 2025.\r\nREG
 ISTRATION\r\nRegistration fee includes seminar kit, proceedings, break
 fast, lunch, dinner and refreshments. The registration fee may be sent
  in the form of Demand Draft in favour of “Prof. M. Doraswamy, Conve
 ner, RULVB-2047” payable at Kuppam and sent to the address given in 
 the registration form. Last Date for Registration: January 20, 2026. T
 hey may also pay registration fee through online.\r\nName of the Bank:
  Union Bank of India, Dravidian University\r\nA/c Number: 153912010001
 593\r\nIFSC Code: UBIN0815390\r\nRegistration Form: https://forms.gle/
 76NUevz7KpH6V6gS7\r\nPlease browse for More Information\r\nhttps://www
 .dravidianuniversity.ac.in/wp-content/uploads/2025/12/ICSSR-DU-RULVB@2
 047-Seminar@2.0.pdf\n\nFor more information visit https://www.lislinks
 .com/events/icssr-sponsored-two-days-national-seminar-on-role-of-unive
 rsity
DTSTART;TZID=Pacific/Midway:20260123T090000
DTEND;TZID=Pacific/Midway:20260124T170000
CATEGORIES:icssr, sponsored, two, days, national, seminar, on, "’rol
 e", of, university, libraries, towards, realizing, viksit, bharat, "@"
 , 2047, "(rulvb@2047)’"
LOCATION:Dept. of Library and Information Science &amp; Central Librar
 y Dravidian University, Kuppam, Andhra Pradesh
WEBSITE:https://www.dravidianuniversity.ac.in/wp-content/uploads/2025/
 12/ICSSR-DU-RULVB@2047-Seminar@2.0.pdf
URL:https://www.dravidianuniversity.ac.in/wp-content/uploads/2025/12/I
 CSSR-DU-RULVB@2047-Seminar@2.0.pdf
CONTACT:+91 98480 15916
ORGANIZER:Dept. of Library and Information Science &amp; Central Libra
 ry Dravidian University, Kuppam, Andhra Pradesh
ATTACH;FMTTYPE="image/jpeg":
ATTENDEE;ROLE=REQ-PARTICIPANT;PARTSTAT=ACCEPTED;RSVP=TRUE;CN=RAMESH:ht
 tps://www.lislinks.com/profile/ramesh
END:VEVENT
END:VCALENDAR
