BEGIN:VCALENDAR
PRODID:NingEventWidget-v1
VERSION:2.0
METHOD:PUBLISH
BEGIN:VTIMEZONE
TZID:Pacific/Midway
X-LIC-LOCATION:Pacific/Midway
BEGIN:STANDARD
TZOFFSETFROM:-1100
TZOFFSETTO:-1100
TZNAME:SST
DTSTART:19700101T000000
END:STANDARD
END:VTIMEZONE
BEGIN:VEVENT
UID:2013205:Event:1203244
DTSTAMP:20260421T202210Z
SUMMARY:ICSSR Sponsored Two-Day International Conference on Informatio
 n Infrastructure of Social Science Research in India (IISSRI-2023)
DESCRIPTION:Dear Professionals,\r\nDear Sir/ Madam,\r\nGreetings from 
 Institute of Development Studies Kolkata!\r\nYou are cordially invited
  to attend the ICSSR Sponsored Two-Day International Conference on In
 formation Infrastructure of Social Science Research in India (IISSRI-2
 023), which is being organised by the Institute of Development Studie
 s Kolkata and will take place on March 02-03, 2023. It is a great hono
 ur to extend this invitation to you. The registration process is open 
 now. The link is given below.\r\nhttps://www.idsk.edu.in/conference-ii
 ssri-2023\r\nFollow our Facebook page to get updates: https://www.f
 acebook.com/idsklibrary  \r\nCall for Papers:\r\nUnpublished research
  papers are invited for presentation in the conference. All the submit
 ted papers will be reviewed by a panel of experts in the respective ar
 eas. Selected papers will be published in the post conference volume f
 rom a reputed publisher with ISBN.\r\nAuthors are encouraged to think 
 out of the box and be creative in showcasing what is happening in thei
 r field. The review criteria include the relevance of the agenda, nove
 lty of research, clarity, and originality or significance of the contr
 ibution, and quality of presentation.\r\nThemes:\r\na) Information Inf
 rastructure and Knowledge Representation;\r\nb) Access to Information 
 Resources and Services,\r\nc) Digital Landscape and Open Scholarship,\
 r\nd) Research Data Curation and Stewardship, e) Sustainable Research 
 Ecosystem.\r\nFor details : https://idsk.edu.in/conference-iissri-202
 3/ \r\n\n\nFor more information visit https://www.lislinks.com/events/
 icssr-sponsored-two-day-international-conference-on-information
DTSTART;TZID=Pacific/Midway:20230302T100000
DTEND;TZID=Pacific/Midway:20230303T170000
CATEGORIES:conference
LOCATION:Salt Lake City, Kolkata.
WEBSITE:https://idsk.edu.in/conference-iissri-2023/
URL:https://idsk.edu.in/conference-iissri-2023/
CONTACT:9734027750 / 7044189261
ORGANIZER:Sanjoy Kar
ATTACH;FMTTYPE="image/jpeg":https://storage.ning.com/topology/rest/1.0
 /file/get/10949871085?profile=original
ATTENDEE;ROLE=REQ-PARTICIPANT;PARTSTAT=ACCEPTED;RSVP=TRUE;CN="DEEPAK C
 HAND NAUTIYAL":https://www.lislinks.com/profile/DEEPAKCHANDNAUTIYAL
ATTENDEE;ROLE=REQ-PARTICIPANT;PARTSTAT=ACCEPTED;RSVP=TRUE;CN="Sovan Sa
 rdar":https://www.lislinks.com/profile/SovanSardar
END:VEVENT
END:VCALENDAR
