BEGIN:VCALENDAR
PRODID:NingEventWidget-v1
VERSION:2.0
METHOD:PUBLISH
BEGIN:VTIMEZONE
TZID:Pacific/Midway
X-LIC-LOCATION:Pacific/Midway
BEGIN:STANDARD
TZOFFSETFROM:-1100
TZOFFSETTO:-1100
TZNAME:SST
DTSTART:19700101T000000
END:STANDARD
END:VTIMEZONE
BEGIN:VEVENT
UID:2013205:Event:1225291
DTSTAMP:20260419T053246Z
SUMMARY:G20 Library Summit: Connecting the Nations for Knowledge and C
 ultural Heritage, at Pondicherry University, Puducherry, India
DESCRIPTION:Dear Sir/Madam, \nGreetings from Pondicherry University, 
 India\nWe are delighted to extend our warm invitation to you and your 
 Library Professional friends to attend the G20 Library Summit: Connec
 ting the Nations for Knowledge and Cultural Heritage, which will take
  place from 7-9 February 2024 at Pondicherry University, Puducherry, 
 India.  Here you can witness a prestigious gathering of leaders, expe
 rts, and visionaries in the field of libraries, information sciences, 
 and cultural heritage from around the world.\nAgenda Highlights:\n\nKe
 ynote presentations from global thought leaders\nPanel discussions on 
 the role of libraries in promoting literacy, cultural preservation, Kn
 owledge Dissemination,  Networking and Collaboration, Innovation and 
 Technology, , Inclusivity and Diversity, Sustainability, 7. Profession
 al Development, Policy Advocacy and others\nWorkshops on digital trans
 formation, data management, and library innovation\nOpportunities to c
 ollaborate with peers from diverse backgrounds\nPaper Presentations an
 d others\n\n \nPlease convey and forward this message to all your Lib
 rary Professionals to collaborate with diverse backgrounds of G20 Libr
 ary Summit participants.  Please ensure their early confirmation to e
 nsure that we can make the necessary arrangements for their visit on a
  fee basis.\n \nIf you have any questions or require additional infor
 mation, please do not hesitate to contact me +91-9430702887, libraria
 n@pondiuni.ac.in  g20ls@pondiuni.ac.in\n \nFor more updates please 
 follow us at:\nSummit      : https://g20ls.com/\nYouTube    :
  https://www.youtube.com/@G20LibrarySummit\nTwitter       : htt
 ps://twitter.com/G20LibSummit\nInstagram  : https://www.instagram.co
 m/g20libsummit/\nFacebook   : https://www.facebook.com/G20LibrarySu
 mmit\nWhatsApp   : https://chat.whatsapp.com/DTatCSXLcfGEeSoNM7eFaS
 \n \nWe look forward to your positive response and hope to welcome yo
 u to the G20 Library Summit. Together, we can explore innovative solut
 ions, strengthen global cooperation, and make a lasting impact on the 
 library and information landscape.\n\nFor more information visit https
 ://www.lislinks.com/events/g20-library-summit-connecting-the-nations-f
 or-knowledge-and
DTSTART;TZID=Pacific/Midway:20240207T000000
DTEND;TZID=Pacific/Midway:20240209T235900
CATEGORIES:library, summit
LOCATION:Pondicherry University, Puducherry, India
WEBSITE:https://www.pondiuni.edu.in/home/
URL:https://www.pondiuni.edu.in/home/
CONTACT:91-9430702887
ORGANIZER:Dr. M Vijayakumar, Organising Secretary, Pondicherry Univers
 ity
ATTACH;FMTTYPE="image/jpeg":
ATTENDEE;ROLE=REQ-PARTICIPANT;PARTSTAT=ACCEPTED;RSVP=TRUE;CN=naheem:ht
 tps://www.lislinks.com/profile/naheem
END:VEVENT
END:VCALENDAR
