BEGIN:VCALENDAR
PRODID:NingEventWidget-v1
VERSION:2.0
METHOD:PUBLISH
BEGIN:VTIMEZONE
TZID:Pacific/Midway
X-LIC-LOCATION:Pacific/Midway
BEGIN:STANDARD
TZOFFSETFROM:-1100
TZOFFSETTO:-1100
TZNAME:SST
DTSTART:19700101T000000
END:STANDARD
END:VTIMEZONE
BEGIN:VEVENT
UID:2013205:Event:1245720
DTSTAMP:20260421T083120Z
SUMMARY:Webinar on AI for Libraries
DESCRIPTION:Poornima University Central Library is organizing a free w
 ebinar on “AI for Libraries” in December 12,2025, from 12:00 PM to
  2:00 PM (IST) on Google Meet. Eminent resource person: Mr. Sukhdev Si
 ngh, Ex‑DDG, NIC, Govt. of India. Join directly using this link: ht
 tps://meet.google.com/fey-fjee-mdr. Open to all, no registration requi
 red.\n\nFor more information visit https://www.lislinks.com/events/fre
 e-webinar-on-ai-for-libraries-today-at-12-pm-to-2-00-pm
DTSTART;TZID=Pacific/Midway:20251212T120000
DTEND;TZID=Pacific/Midway:20251212T140000
CATEGORIES:free, webinar, on
LOCATION:https://meet.google.com/fey-fjee-mdr
WEBSITE:https://poornima.edu.in/
URL:https://poornima.edu.in/
CONTACT:08769112533
ORGANIZER:Sunita Pareek, Chief Librarian, Poornima University
ATTACH;FMTTYPE="image/jpeg":https://storage.ning.com/topology/rest/1.0
 /file/get/31022659673?profile=original
ATTENDEE;ROLE=REQ-PARTICIPANT;PARTSTAT=ACCEPTED;RSVP=TRUE;CN="Sunita P
 areek":https://www.lislinks.com/profile/sunitapareek
END:VEVENT
END:VCALENDAR
