BEGIN:VCALENDAR
PRODID:NingEventWidget-v1
VERSION:2.0
METHOD:PUBLISH
BEGIN:VTIMEZONE
TZID:Pacific/Midway
X-LIC-LOCATION:Pacific/Midway
BEGIN:STANDARD
TZOFFSETFROM:-1100
TZOFFSETTO:-1100
TZNAME:SST
DTSTART:19700101T000000
END:STANDARD
END:VTIMEZONE
BEGIN:VEVENT
UID:2013205:Event:1208391
DTSTAMP:20260421T101650Z
SUMMARY:Five Day Online National Workshop on \"Advanced MS Excel Skill
 s for Research Data Analysis\"
DESCRIPTION:Who can Participate: For all students, Research Scholars 
 and Library and Information Science Professionals.\r\nMode: Online\r\
 nDate:25th - 29th April, 2023\r\nTime:2:00PM to 4:00 PM\r\nRegistratio
 n Fee: ₹200/- only\r\nOnline Registration Link: https://forms.gle/Dp
 Jm7g1knqyaxAGT7\r\nAccount Details for Registration Fee Payment:\r\nAc
 c. Name: Research Training and Consultancy, USTM\r\nAcc. No.: 46520001
 00055493\r\nIFSC: PUNB0465200\r\nBank Name: Punjab National Bank\r\nE-
 Certificates will be provided upon successful completion of the Worksh
 op.\r\n\r\n\n\nFor more information visit https://www.lislinks.com/eve
 nts/five-day-online-national-workshop-on-advanced-ms-excel-skills-for
DTSTART;TZID=Pacific/Midway:20230425T140000
DTEND;TZID=Pacific/Midway:20230429T160000
CATEGORIES:workshop
LOCATION:Online
WEBSITE:
URL:
CONTACT:
ORGANIZER:Dept. of Library and Information Science, USTM
ATTACH;FMTTYPE="image/jpeg":
ATTENDEE;ROLE=REQ-PARTICIPANT;PARTSTAT=ACCEPTED;RSVP=TRUE;CN="THAMMINA
 NA.RAMU":https://www.lislinks.com/profile/THAMMINANARAMU
ATTENDEE;ROLE=REQ-PARTICIPANT;PARTSTAT=ACCEPTED;RSVP=TRUE;CN="jyotsna 
 wakude":https://www.lislinks.com/profile/jyotsnawakude
ATTENDEE;ROLE=REQ-PARTICIPANT;PARTSTAT=ACCEPTED;RSVP=TRUE;CN="Raheeb.T
 ":https://www.lislinks.com/profile/RaheebT
ATTENDEE;ROLE=REQ-PARTICIPANT;PARTSTAT=ACCEPTED;RSVP=TRUE;CN="Indranil
  Chakraborty":https://www.lislinks.com/profile/IndranilChakraborty908
ATTENDEE;ROLE=REQ-PARTICIPANT;PARTSTAT=TENTATIVE;RSVP=TRUE;CN=Piyush:h
 ttps://www.lislinks.com/profile/Piyush
END:VEVENT
END:VCALENDAR
