BEGIN:VCALENDAR
PRODID:NingEventWidget-v1
VERSION:2.0
METHOD:PUBLISH
BEGIN:VTIMEZONE
TZID:Pacific/Midway
X-LIC-LOCATION:Pacific/Midway
BEGIN:STANDARD
TZOFFSETFROM:-1100
TZOFFSETTO:-1100
TZNAME:SST
DTSTART:19700101T000000
END:STANDARD
END:VTIMEZONE
BEGIN:VEVENT
UID:2013205:Event:1244618
DTSTAMP:20260421T020955Z
SUMMARY:DRTC-ISI Conference 2026: Three-day Conference on “Bridging 
 the Gap: Trends in Library and Information Science.
DESCRIPTION:Documentation Research and Training Centre (DRTC) of the I
 ndian Statistical Institute, a premier institute for Library and Infor
 mation Science (LIS) in India, has long been at the forefront of advan
 cing the discipline through collaboration, innovation, and transformat
 ive discourse. DRTC is delighted to announce a three-day conference on
  “Bridging the Gap: Trends in Library and Information Science,” to
  be held in person from March 11–13, 2026, at the ISI Bangalore Cent
 re. The event will also feature a half-day collocated workshop on “D
 ata Management.”\n\nFor more information visit https://www.lislinks.
 com/events/drtc-isi-conference-2026
DTSTART;TZID=Pacific/Midway:20260311T090000
DTEND;TZID=Pacific/Midway:20260313T170000
CATEGORIES:conference
LOCATION:DRTC Bangalore
WEBSITE:https://drtc.isibang.ac.in/lib-bridge/
URL:https://drtc.isibang.ac.in/lib-bridge/
CONTACT:
ORGANIZER:DRTC
ATTACH;FMTTYPE="image/jpeg":
ATTENDEE;ROLE=REQ-PARTICIPANT;PARTSTAT=TENTATIVE;RSVP=TRUE;CN="Dr. Ash
 is Biswas":https://www.lislinks.com/profile/DrAshisBiswas
END:VEVENT
END:VCALENDAR
