BEGIN:VCALENDAR
PRODID:NingEventWidget-v1
VERSION:2.0
METHOD:PUBLISH
BEGIN:VTIMEZONE
TZID:Pacific/Midway
X-LIC-LOCATION:Pacific/Midway
BEGIN:STANDARD
TZOFFSETFROM:-1100
TZOFFSETTO:-1100
TZNAME:SST
DTSTART:19700101T000000
END:STANDARD
END:VTIMEZONE
BEGIN:VEVENT
UID:2013205:Event:1217565
DTSTAMP:20260422T025813Z
SUMMARY:DP-cum-One Day National Workshop
DESCRIPTION:To celebrate the 131st Birth Anniversary of Father of Libr
 ary Science Padmashri Prof. S R Ranganathan, RKSD College, Kaithal in 
 collaboration with HLA (Haryan Library Association) is going to organi
 ze PDP-cum-One Day National Workshop on on August 12, 2023 on the them
 e ‘Dynamics of Educational Resources and Reading Culture’ at RKSD 
 College, Kaithal\n\n\nFor more information visit https://www.lislinks.
 com/events/dp-cum-one-day-national-workshop
DTSTART;TZID=Pacific/Midway:20230812T000000
DTEND;TZID=Pacific/Midway:20230812T235900
CATEGORIES:workshop
LOCATION:Kaithal
WEBSITE:http://www.rksdcollege.ac.in
URL:http://www.rksdcollege.ac.in
CONTACT:9467360570
ORGANIZER:RKSD College Kaithal in collaboration with HLA
ATTACH;FMTTYPE="image/jpeg":https://storage.ning.com/topology/rest/1.0
 /file/get/12175329293?profile=original
ATTENDEE;ROLE=REQ-PARTICIPANT;PARTSTAT=ACCEPTED;RSVP=TRUE;CN="ANJU SAI
 NI":https://www.lislinks.com/profile/ANJUSAINI
ATTENDEE;ROLE=REQ-PARTICIPANT;PARTSTAT=ACCEPTED;RSVP=TRUE;CN="naresh m
 ongia":https://www.lislinks.com/profile/nareshmongia
END:VEVENT
END:VCALENDAR
