BEGIN:VCALENDAR
PRODID:NingEventWidget-v1
VERSION:2.0
METHOD:PUBLISH
BEGIN:VTIMEZONE
TZID:Pacific/Midway
X-LIC-LOCATION:Pacific/Midway
BEGIN:STANDARD
TZOFFSETFROM:-1100
TZOFFSETTO:-1100
TZNAME:SST
DTSTART:19700101T000000
END:STANDARD
END:VTIMEZONE
BEGIN:VEVENT
UID:2013205:Event:1191328
DTSTAMP:20260419T014940Z
SUMMARY:Conference on Knowledge Organisation in Academic Library (I-KO
 AL 2023)
DESCRIPTION:Dear Colleagues\r\nWarm Greetings!\r\nWe are delighted to 
 announce the Call for Paper and Participation for the upcoming Interna
 tional Conference on Knowledge Organisation in Academic Library (I-KOA
 L 2023) jointly organised by Library Professionals Association New Del
 hi and CDAC Navi Mumbai, to be held from 20th to 21st, January 2023.\r
 \nPlease find the brochure; we look forward for your participation. Ki
 ndly pass on this information in your academic circles too.\r\nWebsite
 : https://www.lpaindia.org/\n\nFor more information visit https://www.
 lislinks.com/events/conference-on-knowledge-organisation-in-academic-l
 ibrary-i-koal
DTSTART;TZID=Pacific/Midway:20230120T000000
DTEND;TZID=Pacific/Midway:20230121T235900
CATEGORIES:conference
LOCATION:Centre for Development of Advanced Computing (CDAC)Raintree M
 arg, near Bharati Vidyapeeth, Sector 7, CBD Belapur, Navi Mumbai, Maha
 rashtra 400614
WEBSITE:https://goo.gl/maps/EdqWD9zX2XXStXoL8
URL:https://goo.gl/maps/EdqWD9zX2XXStXoL8
CONTACT:8237297547
ORGANIZER;CN="Ram Singh Bairwa":https://www.lislinks.com/profile/ramsi
 nghbairwa
ATTACH;FMTTYPE="image/jpeg":
ATTENDEE;ROLE=REQ-PARTICIPANT;PARTSTAT=ACCEPTED;RSVP=TRUE;CN=Swati:htt
 ps://www.lislinks.com/profile/Swati206
ATTENDEE;ROLE=REQ-PARTICIPANT;PARTSTAT=ACCEPTED;RSVP=TRUE;CN="DEEPAK C
 HAND NAUTIYAL":https://www.lislinks.com/profile/DEEPAKCHANDNAUTIYAL
ATTENDEE;ROLE=REQ-PARTICIPANT;PARTSTAT=ACCEPTED;RSVP=TRUE;CN=harikrish
 nan:https://www.lislinks.com/profile/harikrishnan
ATTENDEE;ROLE=REQ-PARTICIPANT;PARTSTAT=ACCEPTED;RSVP=TRUE;CN="Neha Ram
 akant Naik":https://www.lislinks.com/profile/NehaRamakantNaik
ATTENDEE;ROLE=REQ-PARTICIPANT;PARTSTAT=ACCEPTED;RSVP=TRUE;CN="Ram Sing
 h Bairwa":https://www.lislinks.com/profile/ramsinghbairwa
END:VEVENT
END:VCALENDAR
