BEGIN:VCALENDAR
PRODID:NingEventWidget-v1
VERSION:2.0
METHOD:PUBLISH
BEGIN:VTIMEZONE
TZID:Pacific/Midway
X-LIC-LOCATION:Pacific/Midway
BEGIN:STANDARD
TZOFFSETFROM:-1100
TZOFFSETTO:-1100
TZNAME:SST
DTSTART:19700101T000000
END:STANDARD
END:VTIMEZONE
BEGIN:VEVENT
UID:2013205:Event:1185927
DTSTAMP:20260419T081749Z
SUMMARY:CALIBER 2022 on \"Envisioning Digital Transformation in Librar
 ies for NextGen Academic Landscape\"
DESCRIPTION:CALIBER 2022 offers a unique opportunity to information pr
 ofessionals and knowledge managers to expand their horizons and extend
  professional expertise. It is a focused event that addresses latest t
 rends on an important theme and sub themes. CALIBER brings together pr
 actitioners and academicians in the field of library and information s
 cience and computer science from across the world. Leading experts, IT
  gurus, and vendors from around the globe participate in the event. CA
 LIBER has proved to be a forum for renowned and trend-setting speakers
  to stimulate strategic discussions among librarians, information spec
 ialists, publishers from all over the country and beyond.\r\nWebsite: 
 https://caliber.inflibnet.ac.in/index.php\n\nFor more information visi
 t https://www.lislinks.com/events/caliber-2022
DTSTART;TZID=Pacific/Midway:20221117T180000
DTEND;TZID=Pacific/Midway:20221119T190000
CATEGORIES:conference
LOCATION:BHU, Varanasi, UP, INDIA.
WEBSITE:https://caliber.inflibnet.ac.in/index.php
URL:https://caliber.inflibnet.ac.in/index.php
CONTACT:
ORGANIZER:INFLIBNET and BHU
ATTACH;FMTTYPE="image/jpeg":https://storage.ning.com/topology/rest/1.0
 /file/get/10679510501?profile=original
ATTENDEE;ROLE=REQ-PARTICIPANT;PARTSTAT=ACCEPTED;RSVP=TRUE;CN="DAYAL SI
 NGH BHATI":https://www.lislinks.com/profile/DAYALSINGHBHATI
ATTENDEE;ROLE=REQ-PARTICIPANT;PARTSTAT=ACCEPTED;RSVP=TRUE;CN="Dr. Ashi
 s Biswas":https://www.lislinks.com/profile/DrAshisBiswas
ATTENDEE;ROLE=REQ-PARTICIPANT;PARTSTAT=ACCEPTED;RSVP=TRUE;CN="Amit Gup
 ta":https://www.lislinks.com/profile/AmitGupta777
ATTENDEE;ROLE=REQ-PARTICIPANT;PARTSTAT=ACCEPTED;RSVP=TRUE;CN=monishagr
 ay:https://www.lislinks.com/profile/monishagray
ATTENDEE;ROLE=REQ-PARTICIPANT;PARTSTAT=TENTATIVE;RSVP=TRUE;CN="DEEPAK 
 KUMAR":https://www.lislinks.com/profile/DEEPAKKUMAR295
ATTENDEE;ROLE=REQ-PARTICIPANT;PARTSTAT=TENTATIVE;RSVP=TRUE;CN="Dola Gh
 osh":https://www.lislinks.com/profile/DolaGhosh
END:VEVENT
END:VCALENDAR
