BEGIN:VCALENDAR
PRODID:NingEventWidget-v1
VERSION:2.0
METHOD:PUBLISH
BEGIN:VTIMEZONE
TZID:Pacific/Midway
X-LIC-LOCATION:Pacific/Midway
BEGIN:STANDARD
TZOFFSETFROM:-1100
TZOFFSETTO:-1100
TZNAME:SST
DTSTART:19700101T000000
END:STANDARD
END:VTIMEZONE
BEGIN:VEVENT
UID:2013205:Event:1246036
DTSTAMP:20260421T082904Z
SUMMARY:A One-day National Workshop on Smart Citations Using Scite.ai
DESCRIPTION:Unlike traditional citation tools that only count referenc
 es, Scite.ai provides qualitative citation insights by indicating whet
 her a research article has been cited in a supporting, contrasting, or
  mentioning context. It also offers advanced features such as: \r\n\r
 \nSmart Citations for contextual understanding of research impact\r\nR
 esearch Dashboards to monitor topics, authors, journals, and instituti
 onal outputs\r\nAdvanced search and filtering tools for efficient lite
 rature discovery\r\n\r\n These capabilities significantly enhance res
 earch quality, academic writing, and evidence-based scholarship.\r\nRe
 gistration Fee: Nil\r\nE-certificates will be issued to all participan
 ts.\r\nRegistration Link: https://tinyurl.com/scite-registration Event
  Link: https://tinyurl.com/muj-scite\r\n\r\n \n\nFor more information
  visit https://www.lislinks.com/events/a-one-day-national-workshop-on-
 smart-citations-using-scite-ai
DTSTART;TZID=Pacific/Midway:20251217T113000
DTEND;TZID=Pacific/Midway:20251217T123000
CATEGORIES:online, worshop
LOCATION:Online
WEBSITE:http://Event Link: https://tinyurl.com/muj-scite
URL:http://Event Link: https://tinyurl.com/muj-scite
CONTACT:9942557347
ORGANIZER;CN="Dr.K.S.SHIVRAJ":https://www.lislinks.com/profile/DrKSSHI
 VRAJ
ATTACH;FMTTYPE="image/jpeg":
ATTENDEE;ROLE=REQ-PARTICIPANT;PARTSTAT=ACCEPTED;RSVP=TRUE;CN="Mr REYAZ
  AHMAD KHAN":https://www.lislinks.com/profile/MrREYAZAHMADKHAN
ATTENDEE;ROLE=REQ-PARTICIPANT;PARTSTAT=ACCEPTED;RSVP=TRUE;CN="Dr.K.S.S
 HIVRAJ":https://www.lislinks.com/profile/DrKSSHIVRAJ
END:VEVENT
END:VCALENDAR
