BEGIN:VCALENDAR
PRODID:NingEventWidget-v1
VERSION:2.0
METHOD:PUBLISH
BEGIN:VTIMEZONE
TZID:Pacific/Midway
X-LIC-LOCATION:Pacific/Midway
BEGIN:STANDARD
TZOFFSETFROM:-1100
TZOFFSETTO:-1100
TZNAME:SST
DTSTART:19700101T000000
END:STANDARD
END:VTIMEZONE
BEGIN:VEVENT
UID:2013205:Event:1218395
DTSTAMP:20260422T000412Z
SUMMARY:A LECTURE ON -THE POTENTIAL OF CHATGPT FOR LEARNING AND EDUCAT
 ION &amp; AI-based Retrievalâ€“ UNDERSTANDING ITS LIMITATIONS
DESCRIPTION:Maharani Lakshmi Ammanni College for Women, Bangalore (mLA
 C)Â  DEPARTMENT OF LIBRARYÂ Maharani Lakshmi Ammanni College for Women
 , Bangalore (mLAC)Â \nDEPARTMENT OF LIBRARYÂ CELEBRATES THE BIRTH ANNI
 VERSARY OFÂ DR. S R RANGANATHAN, FATHER OF LIBRARY SCIENCE\nAll are Co
 rdially InvitedÂ forÂ A LECTURE ON -THE POTENTIAL OF CHATGPT FOR LEARN
 ING AND EDUCATION & AI-based Retrievalâ€“ UNDERSTANDING ITS LIMITATION
 SÂ \nÂ DATE: 12TH AUGUST 2023 VENUE: Dr. K N V SHASTRI AUDITORIUM SATU
 RDAYÂ  -Â  TIME: 11.30 â€“ 1.30 PM\nLECTURE BY Â  Â  Â  Â  Â  Â  Â  Â 
  Â  Â Professor Pit Pichappan Â  Â  Â  Â  Â  Â  Â  Â  Â  Â  Â  Â  Â  Â
   Â  Â  Â  Â  Â  Â  Â  Â  Â  Â  Â  Â  Â  Â  Â  Â Â Digital Information
  Research Labs.,Â  Â  Â  Â  Â  Â  Â  Â  Â  Â  Â  Â  Â  Â  Â  Â  Â  Â  
 Â  Â  Â  Â Â Chennai. India & Ilford. UK\nPRESIDED BY Dr Nagalaxmi B N
 , Principal, mLAC. Malleswaram. Bangalore &Â  Â  Library Advisory Comm
 ittee MembersÂ  Â  Â  Â  Â  Â  Â  Â  Â  Â  Â Â \n\n\n\n\nFor more info
 rmation visit https://www.lislinks.com/events/a-lecture-on-the-potenti
 al-of-chatgpt-for-learning-and-education
DTSTART;TZID=Pacific/Midway:20230812T110000
DTEND;TZID=Pacific/Midway:20230812T140000
CATEGORIES:special, lecture
LOCATION:Maharani Laskshmi Ammanni College,
WEBSITE:
URL:
CONTACT:
ORGANIZER:S. Sowmya
ATTACH;FMTTYPE="image/jpeg":
ATTENDEE;ROLE=REQ-PARTICIPANT;PARTSTAT=ACCEPTED;RSVP=TRUE;CN="Saba Sar
 asvdy":https://www.lislinks.com/profile/SabaSarasvdy
END:VEVENT
END:VCALENDAR
