BEGIN:VCALENDAR
PRODID:NingEventWidget-v1
VERSION:2.0
METHOD:PUBLISH
BEGIN:VTIMEZONE
TZID:Pacific/Midway
X-LIC-LOCATION:Pacific/Midway
BEGIN:STANDARD
TZOFFSETFROM:-1100
TZOFFSETTO:-1100
TZNAME:SST
DTSTART:19700101T000000
END:STANDARD
END:VTIMEZONE
BEGIN:VEVENT
UID:2013205:Event:1188618
DTSTAMP:20260423T023107Z
SUMMARY:6th International Conference of Asian Libraries
DESCRIPTION:6th International Conference of Asian Libraries, \nCALL F
 OR PAPERS & PARTICIPATION\nICAL-2022 (November 24-26)\nInformation, Kn
 owledge & Research: Changing Role of Libraries Jointly Organized by De
 pt. of Library & Information Science, AMU, Aligarh Maulana Azad Librar
 y, AMU, Aligarh & Asian Library Association (ASIALA), New Delhi Novemb
 er 24-26, 2022 (Thu-Sat) At Aligarh Muslim University (AMU), Aligarh-2
 02002, U.P., India.\nWebsite's link\nBrochure of the Conference\n\nFor
  more information visit https://www.lislinks.com/events/6th-internatio
 nal-conference-of-asian-libraries
DTSTART;TZID=Pacific/Midway:20221124T180000
DTEND;TZID=Pacific/Midway:20221126T190000
CATEGORIES:conference
LOCATION:Aligarh Muslim University
WEBSITE:https://www.amu.ac.in/libraries/maulana-azad-library/library-e
 vents
URL:https://www.amu.ac.in/libraries/maulana-azad-library/library-event
 s
CONTACT:
ORGANIZER;CN="SYED SHAZ HUSAIN":https://www.lislinks.com/profile/SYEDS
 HAZHUSAIN
ATTACH;FMTTYPE="image/jpeg":
ATTENDEE;ROLE=REQ-PARTICIPANT;PARTSTAT=ACCEPTED;RSVP=TRUE;CN="DEEPAK C
 HAND NAUTIYAL":https://www.lislinks.com/profile/DEEPAKCHANDNAUTIYAL
ATTENDEE;ROLE=REQ-PARTICIPANT;PARTSTAT=ACCEPTED;RSVP=TRUE;CN="DAYAL SI
 NGH BHATI":https://www.lislinks.com/profile/DAYALSINGHBHATI
ATTENDEE;ROLE=REQ-PARTICIPANT;PARTSTAT=ACCEPTED;RSVP=TRUE;CN="SYED SHA
 Z HUSAIN":https://www.lislinks.com/profile/SYEDSHAZHUSAIN
ATTENDEE;ROLE=REQ-PARTICIPANT;PARTSTAT=TENTATIVE;RSVP=TRUE;CN="Monika 
 bhalla":https://www.lislinks.com/profile/Monikabhalla
END:VEVENT
END:VCALENDAR
